BEGIN:VCALENDAR
VERSION:2.0
PRODID:-//CAT Meldorf - ECPv6.7.1//NONSGML v1.0//EN
CALSCALE:GREGORIAN
METHOD:PUBLISH
X-ORIGINAL-URL:https://cat-meldorf.de
X-WR-CALDESC:Veranstaltungen für CAT Meldorf
REFRESH-INTERVAL;VALUE=DURATION:PT1H
X-Robots-Tag:noindex
X-PUBLISHED-TTL:PT1H
BEGIN:VTIMEZONE
TZID:Europe/Berlin
BEGIN:DAYLIGHT
TZOFFSETFROM:+0100
TZOFFSETTO:+0200
TZNAME:CEST
DTSTART:20240331T010000
END:DAYLIGHT
BEGIN:STANDARD
TZOFFSETFROM:+0200
TZOFFSETTO:+0100
TZNAME:CET
DTSTART:20241027T010000
END:STANDARD
END:VTIMEZONE
BEGIN:VEVENT
DTSTART;TZID=Europe/Berlin:20240514T173000
DTEND;TZID=Europe/Berlin:20240514T193000
DTSTAMP:20260421T022220
CREATED:20240412T071927Z
LAST-MODIFIED:20240504T100436Z
UID:10000074-1715707800-1715715000@cat-meldorf.de
SUMMARY:Überblick im Förder- und Finanzierungsdschungel
DESCRIPTION:Hybride Informationsveranstaltung für (angehende) Existenzgründende und KMUs\n\n\nDie Förderlandschaft der gewerblichen Wirtschaft ist einem steten Wandel unterworfen. Der Förderlotse Christian Hank von der Investitionsbank Schleswig-Holstein (IB.SH) lichtet gemeinsam mit Wirtschaftsförderer Jörg Peter Neumann von der Entwicklungsgesellschaft Westholstein (egw) für Sie diesen Förderdschungel aus Landes- und Bundes-Förderprogrammen. \nChristian Hank\, den wir online dazu schalten\, zeigt in seinem Vortrag „Finanzierungs- Know-How für Gründungen\, Nachfolgen und junge Unternehmen“ auf\, welche Förderprogramme für Gründende und Unternehmen relevant und interessant sein können. Er gibt einen kompakten Überblick über wichtige Zuschüsse\, z.B. für Weiterbildungen oder Themen der Existenzgründung. Bei den Förderdarlehen für Investitionen oder Liquidität stehen Programmangebote von KfW und IB.SH im Mittelpunkt. \nNicht zuletzt geht es um die Frage\, wie Förderangebote der Investitionsbank Schleswig-Holstein und Eigenkapitalhilfen Kreditfinanzierungen von Hausbanken ermöglichen können und wie Sie die Beratung der IB.SH Förderlotsen unbürokratisch bei der Suche nach dem passenden Förderprogramm unterstützt. \nVor Ort steht Jörg Peter Neumann beim anschließenden Netzwerken bei Getränken und Snacks für alle Fragen der Teilnehmenden zur Verfügung. \nDiese Veranstaltung ist eine Kooperationsveranstaltung des CAT Meldorf\, der Entwicklungsgesellschaft Westholstein sowie der IB.SH und wird hybrid veranstaltet. \n \nFür die hybride Teilnahme versenden wir einen Tag vor der Veranstaltung den Link zur Videokonferenz.
URL:https://cat-meldorf.de/event/ueberblick-im-foerder-und-finanzierungsdschungel/
LOCATION:Marschstraße 30A\, Marschstraße 30A\, Meldorf\, SH\, 25704\, Germany
ATTACH;FMTTYPE=image/jpeg:https://cat-meldorf.de/wp-content/uploads/2024/04/fd4786adcc65cb54059ebb20a12d875a.jpg
END:VEVENT
END:VCALENDAR