BEGIN:VCALENDAR
VERSION:2.0
PRODID:-//CAT Meldorf - ECPv6.7.1//NONSGML v1.0//EN
CALSCALE:GREGORIAN
METHOD:PUBLISH
X-ORIGINAL-URL:https://cat-meldorf.de
X-WR-CALDESC:Veranstaltungen für CAT Meldorf
REFRESH-INTERVAL;VALUE=DURATION:PT1H
X-Robots-Tag:noindex
X-PUBLISHED-TTL:PT1H
BEGIN:VTIMEZONE
TZID:Europe/Berlin
BEGIN:DAYLIGHT
TZOFFSETFROM:+0100
TZOFFSETTO:+0200
TZNAME:CEST
DTSTART:20240331T010000
END:DAYLIGHT
BEGIN:STANDARD
TZOFFSETFROM:+0200
TZOFFSETTO:+0100
TZNAME:CET
DTSTART:20241027T010000
END:STANDARD
END:VTIMEZONE
BEGIN:VEVENT
DTSTART;TZID=Europe/Berlin:20240531T113000
DTEND;TZID=Europe/Berlin:20240531T143000
DTSTAMP:20260421T023236
CREATED:20240423T141103Z
LAST-MODIFIED:20240521T072333Z
UID:10000076-1717155000-1717165800@cat-meldorf.de
SUMMARY:Digitalisierungsförderung für kleine und mittlere Unternehmen
DESCRIPTION:Entdecken Sie Schleswig-Holsteins Förderprogramme für KMUs! Experten diskutieren vor Ort im mariCUBE Büsum am 31. Mai\, 11.30 Uhr.\n\n\nDas Land Schleswig-Holstein hat Förderprogramme auf den Weg gebracht\, die niedrigschwellige Digitalisierungsmaßnahmen in kleinen und mittleren Unternehmen der gewerblichen Wirtschaft unterstützen und die Leistungs- und Wettbewerbsfähigkeit steigern – zum Beispiel in den Bereichen IT-Sicherheit\, Einführung einer „digitalen Baustelle“\, Digitalisierung der Geschäftsprozesse\, Verbesserung des Onlineshops usw. \nMachen Sie Ihren Betrieb fit für die Zukunft \nIn unserem Forum „Fördermittelprogramme“ möchten wir Sie mit den Bedingungen und den Fördermöglichkeiten der Digitalisierungsprogramme vertraut machen. Es werden konkrete Beispiele aufgezeigt\, wie Sie Ihren Betrieb digitalisieren und zukunftsfähig aufstellen können. \nHierzu möchten wir Sie gern zu einer Informationsveranstaltung in den Wirtschafts- und Wissenschaftspark mariCUBE\, Hafentörn 3 in Büsum einladen. Die Experten vor Ort stehen Ihnen für konkrete Fragen zur Verfügung. Im Anschluss haben Sie die Möglichkeit\, sich bei Snacks und Getränken im Foyer weiter auszutauschen. \n  \nAblauf der Veranstaltung: \n· 11.30 Uhr Ankommen\, Willkommenskaffee im Foyer \n· 12 Uhr Begrüßung der Referenten und Teilnehmer\, Vorstellung des Veranstaltungsortes mariCUBE durch Event- und Communitymanagerin Sandra Hief (CAT GmbH) \n· 12.10 Uhr Praxisbeispiel: Dipl. Ing. Thomas Christoph und Kai Uwe Graf (CHRISTOPH Service für Haustechnik GmbH) aus Heide stellen sich vor und zeigen auf\, wie das Unternehmen von einer Digitalisierungsförderung profitiert \n· 12.30 Uhr Vorstellung der Förderprogramme für Digitalisierung (Jan Cornils\, WT.SH) \n· 12.50 Uhr Das Modul „Beratung“ in der Praxis (Kilian Ivers und Frank Thomsen\, BT Nord Systemhaus GmbH) \n· 13.10 Uhr Das Modul „Umsetzung“ in der Praxis (Jörg Peter Neumann\, Entwicklungsgesellschaft Westholstein mbH) \n· 13.30 Uhr Frage- und Antwortrunde \n· 14 Uhr Ende der Veranstaltung/ Austausch bei Snacks und Getränken im Foyer
URL:https://cat-meldorf.de/event/digitalisierungsfoerderungfuer-kleine-und-mittlere-unternehmen/
LOCATION:SH
ATTACH;FMTTYPE=image/jpeg:https://cat-meldorf.de/wp-content/uploads/2024/04/8d786cdd79db74a7f8f5de972603d2f6.jpg
END:VEVENT
END:VCALENDAR