BEGIN:VCALENDAR
VERSION:2.0
PRODID:-//CAT Meldorf - ECPv6.7.1//NONSGML v1.0//EN
CALSCALE:GREGORIAN
METHOD:PUBLISH
X-ORIGINAL-URL:https://cat-meldorf.de
X-WR-CALDESC:Veranstaltungen für CAT Meldorf
REFRESH-INTERVAL;VALUE=DURATION:PT1H
X-Robots-Tag:noindex
X-PUBLISHED-TTL:PT1H
BEGIN:VTIMEZONE
TZID:Europe/Berlin
BEGIN:DAYLIGHT
TZOFFSETFROM:+0100
TZOFFSETTO:+0200
TZNAME:CEST
DTSTART:20230326T010000
END:DAYLIGHT
BEGIN:STANDARD
TZOFFSETFROM:+0200
TZOFFSETTO:+0100
TZNAME:CET
DTSTART:20231029T010000
END:STANDARD
END:VTIMEZONE
BEGIN:VEVENT
DTSTART;TZID=Europe/Berlin:20230906T150000
DTEND;TZID=Europe/Berlin:20231018T150000
DTSTAMP:20260419T143804
CREATED:20230703T081257Z
LAST-MODIFIED:20231014T103333Z
UID:10000068-1694012400-1697641200@cat-meldorf.de
SUMMARY:Existenzgründung Westküste - Ihr digitaler Weg in die Selbstständigkeit
DESCRIPTION:Online Existenzgründungskurs\n\n\nIn einer umfangreichen Begleitung geben wir Gründungsinteressierten wichtiges Rüstzeug für die Selbstständigkeit mit auf den Weg. Die Wissensvermittlung der klassischen Existenzgründungsthemen\, sowie digitaler Kompetenzen wird in Form von aufgezeichneten Videobausteinen\, Live-Bausteinen und Einzelgesprächen stattfinden – alles digital über gotomeeting und die Lernplattform “eloomi”. Dazu wird lediglich ein Laptop\, ein Internetzugang sowie eine aktuelle Mailadresse benötigt. \nWenn Sie sich für eine Teilnahme entscheiden\, folgt am 06.09.2023 ein Kick-Off\, in dem wir das Projekt und den Ablauf konkreter vorstellen.   \nHIER IST KEIN DIREKTE ANMELDUNG FÜR DEN 06.09. MÖGLICH! BUCHEN SIE BITTE EINE KOSTENLOSE ERSTBRATUNG ÜBER UNSERE HOMEPAGE ODER KONTAKTIEREN SIE UNS! \nTel. 04832 996 100 oder jerke@cat-meldorf.de \nBevor es in die „Live-Bausteine“ mit den erfahrenen Dozentinnen und Dozenten und Unternehmensberatungen geht\, steigen Sie eigenständig mit aufgezeichneten Videobausteinen in die jeweilige Thematik ein und erarbeiten einen Teil der Themen partiell selbstständig. Ergänzend dazu werden erste Arbeitsunterlagen sowie eine Businessplanvorlage ausgehändigt\, mit denen gestartet und Notizen gemacht werden können. Dies ist die Grundlage für die nachfolgenden „Live-Bausteine“; die darauf aufbauenden Workshops. Dort wird das jeweilige Thema vertieft bearbeitet und individuelle Fragen werden geklärt. \nInsgesamt haben wir 10 Bausteine zusammengestellt. Durchschnittlich finden 2 „Live-Bausteine“ pro Woche statt\, diese sind in der Regel zweieinhalbstündig. Zwischen den „Live-Bausteinen“ arbeiten Sie eigenständig mit den Videobausteinen sowie den Arbeitsunterlagen und Ihrem Businessplan weiter. Innerhalb dieser 10 Bausteine stehen zudem zwei Einzelgespräche mit Fachdozenten sowie ein weiteres Standortbestimmungsgespräch mit uns als CAT an\, um die individuellen Themen und Fragen zu klären und zu schauen\, ob es weiteren Unterstützungsbedarf gibt. \nWeitere Themen und Termine finden Sie hier https://startup-kueste.de/events/ \nTeilnehmen können alle Gründungsinteressierten aus Dithmarschen und Steinburg. Das Projekt wird über EFRE- Mittel gefördert und ist dadurch kostenfrei.
URL:https://cat-meldorf.de/event/existenzgruendung-westkueste-ihr-digitaler-weg-in-die-selbststaendigkeit-5/
LOCATION:SH
ATTACH;FMTTYPE=image/jpeg:https://cat-meldorf.de/wp-content/uploads/2023/07/8f6848f5a7e429dfd622ffed131241f9.jpg
END:VEVENT
BEGIN:VEVENT
DTSTART;TZID=Europe/Berlin:20231025T173000
DTEND;TZID=Europe/Berlin:20231025T193000
DTSTAMP:20260419T143804
CREATED:20230818T101229Z
LAST-MODIFIED:20231014T103334Z
UID:10000070-1698255000-1698262200@cat-meldorf.de
SUMMARY:Sichtbar sein – Profiloptimierung bei LinkedIn und Instagram!
DESCRIPTION:Impulsvortrag\, Präsenzveranstaltung\n\n\nSichtbar sein – Profiloptimierung bei LinkedIn und Instagram!  \n \n \nOhne Soziale Medien geht nichts mehr\, aber nur „irgendwie“ präsent und nicht sichtbar zu sein\, nützt auch nicht viel. Was tun? \nHier unser Tipp: Kommt zu unserer Veranstaltung mit Kerstin Tetens! Als Dozentin für Event- und Online-Marketing an der FH Westküste hat sie hilfreiche Tipps und Tricks zur Optimierung des eigenen Profils für Euch dabei. Letztlich geht es „ganz einfach“ darum\, mehr Reichweite und neue Follower zu gewinnen – welche neuen Tools hierbei hilfreich sind\, stellt uns Kerstin in ihrem Impulsvortrag vor. \nIhren Master hat sie in Wirtschaft\, Medien und Psychologie absolviert und ist bereits seit 2007 an der FH Westküste als Dozentin tätig. Außerdem zeichnet sie seit Neuestem für das Social Media Marketing der Fachhochschule verantwortlich und auch das Alumni-Management gehört zu ihren Aufgaben – ohne viel Know-how über Soziale Medien geht da gar nichts. 😉 \nUmso mehr freuen wir uns\, dass sie etwas von ihrem Wissen und ihren Erfahrungen zu uns nach Meldorf mitbringen wird. In ihrem Vortrag stellt sie neben verschiedenen Tools auch technisches Equipment vor. Hinzu kommen ein paar „Zahlen und Fakten“\, z.B. zum Thema LinkedIn versus Xing. \nIm Anschluss an den ca. einstündigen Vortrag bleibt Zeit zum Austausch und Netzwerken\, auch für Getränke und Snacks ist gesorgt.  \nSave the Date und meldet Euch an! \nWann? Am 25.10. um 17.30 Uhr  \nWo? Im Centrum für Angewandte Technologien\, Marschstraße 30A\, 25704 Meldorf
URL:https://cat-meldorf.de/event/sichtbar-sein-profiloptimierung-bei-linkedin-und-instagram/
LOCATION:SH
ATTACH;FMTTYPE=image/jpeg:https://cat-meldorf.de/wp-content/uploads/2023/08/9b8c66cd0c43913ccda1b23eba6a07ca-1.jpg
END:VEVENT
END:VCALENDAR