BEGIN:VCALENDAR
VERSION:2.0
PRODID:-//CAT Meldorf - ECPv6.7.1//NONSGML v1.0//EN
CALSCALE:GREGORIAN
METHOD:PUBLISH
X-WR-CALNAME:CAT Meldorf
X-ORIGINAL-URL:https://cat-meldorf.de
X-WR-CALDESC:Veranstaltungen für CAT Meldorf
REFRESH-INTERVAL;VALUE=DURATION:PT1H
X-Robots-Tag:noindex
X-PUBLISHED-TTL:PT1H
BEGIN:VTIMEZONE
TZID:Europe/Berlin
BEGIN:DAYLIGHT
TZOFFSETFROM:+0100
TZOFFSETTO:+0200
TZNAME:CEST
DTSTART:20240331T010000
END:DAYLIGHT
BEGIN:STANDARD
TZOFFSETFROM:+0200
TZOFFSETTO:+0100
TZNAME:CET
DTSTART:20241027T010000
END:STANDARD
END:VTIMEZONE
BEGIN:VEVENT
DTSTART;TZID=Europe/Berlin:20240627T173000
DTEND;TZID=Europe/Berlin:20240627T193000
DTSTAMP:20260421T004954
CREATED:20240521T072401Z
LAST-MODIFIED:20240622T100321Z
UID:10000077-1719509400-1719516600@cat-meldorf.de
SUMMARY:Gründungspotenziale durch Neuansiedlungen von Unternehmen - Northvolt
DESCRIPTION:Entdecken Sie Gründungspotenziale durch Unternehmensansiedlungen! Diskutieren Sie mit Experten und gestalten Sie die Wirtschaft der Zukunft.\n\n\nWie wirken sich Großansiedlungen wie Northvolt auf die lokale Wirtschaft und die verschiedenen Branchen aus? Welche Chancen und Herausforderungen ergeben sich für Neugründungen und die Weiterentwicklung schon bestehender KMUs? \nDiese Fragen möchten wir in Kooperation mit der TH Lübeck zusammen mit Ihnen und prominenten ExpertInnen von Northvolt\, dem Fraunhofer ISIT\, des EMLE der TH Lübeck\, der Entwicklungsgesellschaft Westholstein (egw)\, sowie der Fachhochschule Westküste erörtern. \nZum Auftakt der Veranstaltung geben Raphael Richter (ISIT)\, Peter Drews (EMLE) und Prof. Dr. Oliver Opel (FH Westküste) den Teilnehmenden einen inspirierenden Einblick in die neusten Entwicklungen der Batteriezelltechnologie. \nYannick Wulf von der Firma Northvolt erzählt von Erfahrungen aus vorherigen Ansiedlungen und zeigt auf\, welche Gründungs- und Weiterentwicklungspotenziale sich auftun\, welche Bedürfnisse und Anforderungen das Unternehmen an seine Zulieferer hat und wie potenzielle GründerInnen davon profitieren können. \nIn der anschließenden offenen Diskussionsrunde sollen Chancen und Herausforderungen erörtert und Fragen sowie Anregungen aus dem Plenum aufgegriffen und aus verschiedenen Blickwinkeln betrachtet werden. \nIm Anschluss tauschen sich die ReferentInnen und Teilnehmenden bei Getränken und Snacks aus\, knüpfen wertvolle Kontakte und entdecken neue Kooperationsmöglichkeiten. Im besten Fall resultieren daraus neue Gründungsideen und Weiterentwicklungen bereits bestehender Unternehmen der Regionen. \nDie Teilnehmerzahl ist begrenzt\, wir bitten um Anmeldung! Eine Anmeldung kann bis Donnerstag\, den 20.06. erfolgen. \n \nSpeaker: Yannick Wulf (Northvolt)\, Raphael Richter (Fraunhofer ISIT)\, Jens Korte (Entwicklungsgesellschaft Westholstein)\, Benjamin Peters (Technische Hochschule Lübeck)\, Peter Drews (EMLE Institut der TH Lübeck)\, Nina Jerke (CAT)\, Prof. Dr. Ines Lietzke-Prinz (Fachhochschule Westküste); Prof. Dr. Oliver Opel (Fachhochschule Westküste)
URL:https://cat-meldorf.de/event/gruendungspotenziale-durch-neuansiedlungen-von-unternehmen-northvolt/
LOCATION:Marschstraße 30A\, Marschstraße 30A\, Meldorf\, SH\, 25704\, Germany
ATTACH;FMTTYPE=image/jpeg:https://cat-meldorf.de/wp-content/uploads/2024/05/8485c09fa97fdf7a09f4e48322509e83.jpg
END:VEVENT
BEGIN:VEVENT
DTSTART;TZID=Europe/Berlin:20240628T093000
DTEND;TZID=Europe/Berlin:20240628T110000
DTSTAMP:20260421T004954
CREATED:20240613T063835Z
LAST-MODIFIED:20240628T112018Z
UID:10000079-1719567000-1719572400@cat-meldorf.de
SUMMARY:Einstieg für KMUs in nachhaltiges Unternehmertum
DESCRIPTION:Die Online-Veranstaltung gibt Ihnen einen  Einblick\, wie Nachhaltigkeit in den unternehmerischen Kontext integriert werden kann.\n\n\nDen Themen „Klimaschutz“ und „Verantwortungsvoller Umgang mit Ressourcen“ wird in unserer heutigen Gesellschaft eine große Bedeutung zuteil. Auch Unternehmen sind sich dieser Relevanz bewusst und setzen sich immer mehr aktiv damit auseinander\, wie Nachhaltigkeit in den unternehmerischen Kontext integriert werden kann. Ein wichtiges Thema\, zu dem wir mit unserer Online-Veranstaltung “Einstieg für KMUs in nachhaltiges Unternehmertum” eine Einführung geben wollen. \nWas Sie erwartet: \nAnnette Moritz von der IB.SH gibt Einblicke in einen kostenlosen Nachhaltigkeitscheck für Unternehmen. Mit bereits 40 erfolgreich beratenen Unternehmen und einer steigenden Nachfrage bietet dieses Angebot einen Einstieg in die unternehmerische Auseinandersetzung mit dem Thema Nachhaltigkeit. \nDes Weiteren wird Nele Göttsche das Projekt “WestküsteSDG” von der Regionalen Kooperation Westküste vorstellen. Dieses Projekt\, das im Rahmen des Bundesprogramms “Zukunft Region” gefördert wird\, strebt bis Ende 2024 die Entwicklung eines umfassenden Zukunftskonzepts für die Westküste in den SDGs 7-13 (darunter Energie\, Klimaschutz\, Kreislaufwirtschaft und menschliches Wohlbefinden) an. \nZum Abschluss der Veranstaltung wird der Geschäftsführer Thomas Stock vom Unternehmen Pano Verschluß GmbH aus Itzehoe einen praxisnahen Einblick in die unternehmerische Praxis und Umsetzung von Nachhaltigkeit geben. Der Beitrag wird wertvolle Einblicke liefern und mögliche Ansätze für die Umsetzung in Ihrem eigenen Unternehmen aufzeigen. \nModeriert wird die Veranstaltung von egw-Wirtschaftsförderer Jens Korte. Gemeinsam können wir die Grundlagen für eine nachhaltigere Zukunft schaffen\, also melden Sie sich jetzt an. Wir freuen uns über Ihre Teilnahme! \nDatenschutzhinweis: \nIhre Daten werden verarbeitet\, um Ihre Anmeldung zu Veranstaltungen entgegenzunehmen und die Veranstaltung zu organisieren und durchzuführen. \nIhre Daten werden auf Grundlage von Art. 6 Abs. 1 Satz 1 lit. b DSGVO (Erfüllung eines Vertrages) verarbeitet.
URL:https://cat-meldorf.de/event/einstieg-fuer-kmus-in-nachhaltiges-unternehmertum/
LOCATION:SH
CATEGORIES:externe Veranstaltung
ATTACH;FMTTYPE=image/jpeg:https://cat-meldorf.de/wp-content/uploads/2024/06/c539c396cedcc99c471f4206c170cf5f.jpg
END:VEVENT
END:VCALENDAR