BEGIN:VCALENDAR
VERSION:2.0
PRODID:-//CAT Meldorf - ECPv6.7.1//NONSGML v1.0//EN
CALSCALE:GREGORIAN
METHOD:PUBLISH
X-WR-CALNAME:CAT Meldorf
X-ORIGINAL-URL:https://cat-meldorf.de
X-WR-CALDESC:Veranstaltungen für CAT Meldorf
REFRESH-INTERVAL;VALUE=DURATION:PT1H
X-Robots-Tag:noindex
X-PUBLISHED-TTL:PT1H
BEGIN:VTIMEZONE
TZID:Europe/Berlin
BEGIN:DAYLIGHT
TZOFFSETFROM:+0100
TZOFFSETTO:+0200
TZNAME:CEST
DTSTART:20240331T010000
END:DAYLIGHT
BEGIN:STANDARD
TZOFFSETFROM:+0200
TZOFFSETTO:+0100
TZNAME:CET
DTSTART:20241027T010000
END:STANDARD
END:VTIMEZONE
BEGIN:VEVENT
DTSTART;TZID=Europe/Berlin:20240911T180000
DTEND;TZID=Europe/Berlin:20240911T200000
DTSTAMP:20260419T190816
CREATED:20240614T054126Z
LAST-MODIFIED:20240907T100413Z
UID:10000080-1726077600-1726084800@cat-meldorf.de
SUMMARY:Online gesehen werden: Fünf Tipps für eine bessere Präsenz im Netz
DESCRIPTION:Wie stelle ich mich und mein Unternehmen online auf? Welche Social-Media-Plattformen sind wichtig und wo tummelt sich meine Zielgruppe?\n\n\n\nWie stelle ich mich und mein Unternehmen online auf? \nWelche Social-Media-Plattformen sind für mich wichtig und wo tummelt sich meine Zielgruppe? \nBraucht es eine Website oder reicht ein Google my Business-Eintrag?\n\n \nDiese und weitere Fragen rund um den Online-Marketing-Mix beantwortet Fabian Schrum bei unserer Infoveranstaltung am Mittwoch\, den 11.09.24 von 18 Uhr bis 20 Uhr im Centrum für Angewandte Technologie (CAT GmbH)\, Marschstr. 30a in Meldorf\, im Forum Marketing. \nFabian ist Social-Media-Profi und hat unter anderem Social-Media-Kampagnen für politische Akteure betreut. Mit “Salzgehalt Medien” hat er sich in Dithmarschen selbstständig gemacht\, um Unternehmen dabei zu helfen\, ihre Sichtbarkeit und Präsenz zu verbessern. \nIn seinem Vortrag erklärt er fünf grundlegende Prinzipien für die digitale Präsenz von Unternehmen. Diese Takeaways können einfach und ohne große Vorkenntnisse umgesetzt werden. \nIm Anschluss der Veranstaltung bleibt genügend Zeit für Fragen und zum Netzwerken bei Snacks und Getränken.
URL:https://cat-meldorf.de/event/online-gesehen-werden-fuenf-tipps-fuer-eine-bessere-praesenz-im-netz/
LOCATION:Marschstraße 30A\, Marschstraße 30A\, Meldorf\, SH\, 25704\, Germany
ATTACH;FMTTYPE=image/jpeg:https://cat-meldorf.de/wp-content/uploads/2024/06/9bbca01ab78f5b1b20317fce1b0c7169.jpg
END:VEVENT
BEGIN:VEVENT
DTSTART;TZID=Europe/Berlin:20240926T160000
DTEND;TZID=Europe/Berlin:20240926T190000
DTSTAMP:20260419T190816
CREATED:20240827T091648Z
LAST-MODIFIED:20240920T090311Z
UID:10000082-1727366400-1727377200@cat-meldorf.de
SUMMARY:Change-Management für KI-Projekte
DESCRIPTION:Einführung und Implementierung von Künstlicher Intelligenz (KI) in Ihr Unternehmen erfolgreich gestalten\n\n\nDie Integration von Künstlicher Intelligenz (KI) ist zu einem wichtigen Schritt geworden\, um wettbewerbsfähig zu bleiben. Doch der Erfolg eines KI-Projekts hängt nicht nur von der Technologie ab\, sondern auch von der Akzeptanz und Mitarbeit der eigenen Belegschaft. Deshalb ist es wichtig\, die Mitarbeitenden von Anfang an einzubeziehen und auf die Veränderungen vorzubereiten. \nUnser Workshop gliedert sich in zwei Teile: Zunächst bieten wir Ihnen eine theoretische Einführung\, in die Grundlagen des Change-Managements. In einer Workshop Phase haben Sie die Möglichkeit eine Methode kennen zu lernen\, wie Sie mit den Mitarbeitenden ins Gespräch über die anstehenden Veränderungen kommen\, um für Ihr Unternehmen individuelle Maßnahmen ableiten zu können. \nUnser Ziel ist es\, Ihnen die notwendigen Werkzeuge zur Verfügung zu stellen\, um Ihr KI-Projekt ganzheitlich zu betrachten\, Ihre Organisation und Prozesse effektiv zu transformieren und die Mitarbeitenden in den Wandel einzubeziehen. \nZum Abschluss der Veranstaltung gibt es bei Getränken und Snacks die Möglichkeit zum weiteren Austausch und Netzwerken. \nDatenschutzhinweis: \nIhre Daten werden verarbeitet\, um Ihre Anmeldung zu Veranstaltungen entgegenzunehmen und die Veranstaltung zu organisieren und durchzuführen. \nIhre Daten werden auf Grundlage von Art. 6 Abs. 1 Satz 1 lit. b DSGVO (Erfüllung eines Vertrages) verarbeitet. \nBitte beachten Sie\, dass auf der Veranstaltung fotografiert und/oder gefilmt wird. Die Anfertigung und Veröffentlichung von Veranstaltungsfotos und –videos (Print\, Online\, Soziale Netzwerke etc.) erfolgt durch uns aufgrund „berechtigter Interessen“ (Art. 6 Abs. 1 Satz 1 lit. f DSGVO). Unser berechtigtes Interesse ist Öffentlichkeitsarbeit und Darstellung unserer Aktivitäten\, um Interessierten Einblicke zu ermöglichen.
URL:https://cat-meldorf.de/event/change-management-fuer-ki-projekte/
LOCATION:Gesellschaft für Technologieförderung Itzehoe mbH\, Fraunhoferstraße 3\, Itzehoe\, SH\, 25524\, Germany
CATEGORIES:externe Veranstaltung
ATTACH;FMTTYPE=image/jpeg:https://cat-meldorf.de/wp-content/uploads/2024/08/96519aecffe61b161ca11b29332d5c16.jpg
END:VEVENT
END:VCALENDAR