BEGIN:VCALENDAR
VERSION:2.0
PRODID:-//CAT Meldorf - ECPv6.7.1//NONSGML v1.0//EN
CALSCALE:GREGORIAN
METHOD:PUBLISH
X-WR-CALNAME:CAT Meldorf
X-ORIGINAL-URL:https://cat-meldorf.de
X-WR-CALDESC:Veranstaltungen für CAT Meldorf
REFRESH-INTERVAL;VALUE=DURATION:PT1H
X-Robots-Tag:noindex
X-PUBLISHED-TTL:PT1H
BEGIN:VTIMEZONE
TZID:Europe/Berlin
BEGIN:DAYLIGHT
TZOFFSETFROM:+0100
TZOFFSETTO:+0200
TZNAME:CEST
DTSTART:20230326T010000
END:DAYLIGHT
BEGIN:STANDARD
TZOFFSETFROM:+0200
TZOFFSETTO:+0100
TZNAME:CET
DTSTART:20231029T010000
END:STANDARD
END:VTIMEZONE
BEGIN:VEVENT
DTSTART;TZID=Europe/Berlin:20230113T090000
DTEND;TZID=Europe/Berlin:20230224T183000
DTSTAMP:20260420T093510
CREATED:20230113T121822Z
LAST-MODIFIED:20230216T073613Z
UID:10000031-1673600400-1677263400@cat-meldorf.de
SUMMARY:Existenzgründung Westküste - Ihr digitaler Weg in die Selbstständigkeit
DESCRIPTION:Online Existenzgründungskurs\n\n\nIn einer umfangreichen Begleitung geben wir Gründungsinteressierten wichtiges Rüstzeug für die Selbstständigkeit mit auf den Weg. Die Wissensvermittlung der klassischen Existenzgründungsthemen\, sowie digitaler Kompetenzen wird in Form von aufgezeichneten Videobausteinen\, Live-Bausteinen und Einzelgesprächen stattfinden – alles digital über gotomeeting und die Lernplattform Eloomi. Dazu wird lediglich ein Laptop\, ein Internetzugang sowie eine aktuelle Mailadresse benötigt. \nWenn Sie sich für eine Teilnahme entscheiden\, folgt am 13.01.2023 ein Kick-Off\, in dem wir das Projekt und den Ablauf konkreter vorstellen. Unabhängig von der Kick-Off-Veranstaltungen können Sie jederzeit in das Projekt einsteigen. Für mehr Informationen kontaktieren Sie uns gerne.  \nHIER IST KEIN DIREKTE ANMELDUNG FÜR DEN 13.01. MÖGLICH! BUCHEN SIE BITTE EINE KOSTENLOSE ERSTBRATUNG ÜBER UNSERE HOMEPAGE ODER KONTAKTIEREN SIE UNS! \nTel. 04832 996 100 oder jerke@cat-meldorf.de \n \nBevor es in die „Live-Bausteine“ mit den erfahrenen Dozenten und Unternehmensberatern geht\, steigen die Teilnehmenden eigenständig mit aufgezeichneten Videobausteinen in die jeweilige Thematik ein und erarbeiten einen Teil der Themen partiell selbstständig. Ergänzend dazu werden erste Arbeitsunterlagen sowie eine Businessplanvorlage ausgehändigt\, mit denen gestartet und Notizen gemacht werden können. Dies ist die Grundlage für die nachfolgenden „Live-Bausteine“; die darauf aufbauenden Workshops. Dort wird das jeweilige Thema vertieft bearbeitet und individuelle Fragen werden geklärt. \nInsgesamt haben wir 10 Bausteine zusammengestellt. Durchschnittlich finden 2 „Live-Bausteine“ pro Woche statt\, diese sind in der Regel vierstündig. Zwischen den „Live-Bausteinen“ arbeiten die Teilnehmenden eigenständig mit den Videobausteinen sowie den Arbeitsunterlagen und ihrem Businessplan weiter. Innerhalb dieser 10 Bausteine stehen zudem zwei Einzelgespräche mit Fachdozenten sowie ein weiteres Standortbestimmungsgespräch mit uns als CAT an\, um die individuellen Themen und Fragen zu klären und zu schauen\, ob es weiteren Unterstützungsbedarf gibt. \nWeitere Themen und Termine finden Sie hier \nTeilnehmen können alle Gründungsinteressierten aus Dithmarschen und Steinburg. Das Projekt wird über ESF – React – EU Mittel gefördert und ist damit Teil der Reaktion der EU auf die Covid-19 Pandemie und dadurch kostenfrei.
URL:https://cat-meldorf.de/event/existenzgruendung-westkueste-ihr-digitaler-weg-in-die-selbststaendigkeit-3/
LOCATION:SH
ATTACH;FMTTYPE=image/jpeg:https://cat-meldorf.de/wp-content/uploads/2023/02/bfb3ee42b8660f9b62f4232c6cf7f3cb-1.jpg
END:VEVENT
BEGIN:VEVENT
DTSTART;TZID=Europe/Berlin:20230125T100000
DTEND;TZID=Europe/Berlin:20230125T110000
DTSTAMP:20260420T093510
CREATED:20221201T165713Z
LAST-MODIFIED:20230121T101410Z
UID:10000052-1674640800-1674644400@cat-meldorf.de
SUMMARY:Förderung- und Finanzierungsmöglichkeiten
DESCRIPTION:Förderung- und Finanzierungsmöglichkeiten für Gründungsinteressierte und Unternehmen\n\n\nWer sein eigenes Unternehmen gründen oder ein etabliertes Unternehmen übernehmen möchte\, benötigt zunächst einmal einen gewissen finanziellen Spielraum. Oft fehlt es an Geld für nötige Investitionen oder aber\, um die Zeit überbrücken zu können\, bis die ersten Rechnungen bezahlt sind. Doch vielfach kann „Vater Staat“ helfen. Es gibt zahlreiche Förderprogramme\, die Existenzgründenden oder Unternehmensnachfolgern den Weg ebnen. \nAls Förderlotsin durch den „Dschungel“ der Angebote wird Susann Dreßler von der Investitionsbank Schleswig-Holstein (IB.SH) in einer Online-Veranstaltung des Meldorfer Centrums für Angewandte Technologien (CAT) sowie des Programms Startup-Küste am Mittwoch\, 25. Januar\, ab 10.00 Uhr einen entsprechenden Überblick geben. Die Teilnahme ist kostenfrei. \n„Wir zeigen unter anderem\, welche Zuschüsse\, Förderdarlehen\, Bürgschaften und Eigenkapitalunterstützung junge Unternehmen nutzen können. Außerdem gibt es Tipps für die Vorbereitung der Gespräche mit den Geldgeberinnen und Geldgebern“\, erläutert die Referentin. Geeignet ist die Veranstaltung vor allem für Existenzgründungsinteressierte\, die bereits eine Geschäftsidee haben oder für Unternehmerinnen und Unternehmer\, die nicht länger als fünf Jahre selbstständig sind.  \nSusann Dreßler ist seit mehr als 20 Jahren als Förderlotsin und Teamleiterin bei der IB.SH tätig. Gemeinsam mit ihren Mitarbeitenden berät sie Unternehmen und Gründungsinteressierte unentgeltlich und neutral über Finanzierungs- und Fördermöglichkeiten in Schleswig-Holstein. \nFörderhinweis: Das Projekt Existenzgründung Westküste wird gefördert vom Landesprogramm Arbeit des Landes Schleswig-Holstein aus Mitteln der Aufbauhilfe REACT-EU im Rahmen des Europäischen Sozialfonds (ESF). Die Europäische Union hat damit ein Hilfsprogramm aufgelegt\, mit der die wirtschaftlichen und sozialen Folgen der Covid19-Pandemie in Europa abgefedert werden sollen. REACT-EU steht für “Recovery Assistance for Cohesion and the Territories of Europe” (Aufbauhilfe für den Zusammenhalt und die Gebiete Europas).
URL:https://cat-meldorf.de/event/foerderung-und-finanzierungsmoeglichkeiten/
LOCATION:SH
ATTACH;FMTTYPE=image/jpeg:https://cat-meldorf.de/wp-content/uploads/2022/12/aa9fdfafeff9d8de5231be72f8d90997.jpg
END:VEVENT
END:VCALENDAR